BEGIN:VCALENDAR
VERSION:2.0
PRODID:-//crossroadsatparkplace.org//NONSGML kigkonsult.se iCalcreator 2.30
 .10//
CALSCALE:GREGORIAN
METHOD:PUBLISH
UID:290f2b77-456a-40fc-a792-c55f855ea8c0
X-WR-CALDESC:
X-WR-RELCALID:dc255b7e146b3a22ae2f1e9b70dc29c2
X-WR-TIMEZONE:America/Chicago
BEGIN:VTIMEZONE
TZID:America/Chicago
BEGIN:STANDARD
TZNAME:CST
DTSTART:20281105T020000
TZOFFSETFROM:-0500
TZOFFSETTO:-0600
RDATE:20291104T020000
RDATE:20301103T020000
END:STANDARD
BEGIN:DAYLIGHT
TZNAME:CDT
DTSTART:20290311T020000
TZOFFSETFROM:-0600
TZOFFSETTO:-0500
RDATE:20300310T020000
RDATE:20310309T020000
END:DAYLIGHT
END:VTIMEZONE
BEGIN:VEVENT
UID:875b7ab4-17fb-4dd6-8bf2-c9d2c04f977f
DTSTAMP:20260425T021742Z
DESCRIPTION:
DTSTART;TZID=America/Chicago:20291031T100000
DTEND;TZID=America/Chicago:20291031T120000
LOCATION:
SUMMARY:Community Food Fair
END:VEVENT
END:VCALENDAR
