BEGIN:VCALENDAR
VERSION:2.0
PRODID:-//crossroadsatparkplace.org//NONSGML kigkonsult.se iCalcreator 2.30
 .10//
CALSCALE:GREGORIAN
METHOD:PUBLISH
UID:e779a78c-ca38-45c4-bc2a-fc223e0bab99
X-WR-CALDESC:
X-WR-RELCALID:deffd82f151e908576f0dad430cea210
X-WR-TIMEZONE:America/Chicago
BEGIN:VTIMEZONE
TZID:America/Chicago
BEGIN:STANDARD
TZNAME:CST
DTSTART:20291104T020000
TZOFFSETFROM:-0500
TZOFFSETTO:-0600
RDATE:20301103T020000
END:STANDARD
BEGIN:DAYLIGHT
TZNAME:CDT
DTSTART:20290311T020000
TZOFFSETFROM:-0600
TZOFFSETTO:-0500
RDATE:20300310T020000
RDATE:20310309T020000
END:DAYLIGHT
END:VTIMEZONE
BEGIN:VEVENT
UID:a5e53395-abca-4140-8256-3fc86d5e65ae
DTSTAMP:20260425T032430Z
DESCRIPTION:
DTSTART;TZID=America/Chicago:20291114T100000
DTEND;TZID=America/Chicago:20291114T120000
LOCATION:
SUMMARY:Community Food Fair
END:VEVENT
END:VCALENDAR
