BEGIN:VCALENDAR
VERSION:2.0
PRODID:-//crossroadsatparkplace.org//NONSGML kigkonsult.se iCalcreator 2.30
 .10//
CALSCALE:GREGORIAN
METHOD:PUBLISH
UID:5bd56fd1-4eaf-4fab-a13f-5e0c63dfbb9b
X-WR-CALDESC:
X-WR-RELCALID:be0dbbd0b24d703fcf03e365d0ddc90d
X-WR-TIMEZONE:America/Chicago
BEGIN:VTIMEZONE
TZID:America/Chicago
BEGIN:STANDARD
TZNAME:CST
DTSTART:20291104T020000
TZOFFSETFROM:-0500
TZOFFSETTO:-0600
RDATE:20301103T020000
END:STANDARD
BEGIN:DAYLIGHT
TZNAME:CDT
DTSTART:20290311T020000
TZOFFSETFROM:-0600
TZOFFSETTO:-0500
RDATE:20300310T020000
RDATE:20310309T020000
END:DAYLIGHT
END:VTIMEZONE
BEGIN:VEVENT
UID:6dbc46ff-a4e8-4630-9844-fa4ceb795c68
DTSTAMP:20260425T032845Z
DESCRIPTION:
DTSTART;TZID=America/Chicago:20291121T100000
DTEND;TZID=America/Chicago:20291121T120000
LOCATION:
SUMMARY:Community Food Fair
END:VEVENT
END:VCALENDAR
