BEGIN:VCALENDAR
VERSION:2.0
PRODID:-//crossroadsatparkplace.org//NONSGML kigkonsult.se iCalcreator 2.30
 .10//
CALSCALE:GREGORIAN
METHOD:PUBLISH
UID:c37d8181-ccfd-4b5e-b41f-cbaf014bd060
X-WR-CALDESC:
X-WR-RELCALID:932a6a299db2b81d05fd23e5aa5d1205
X-WR-TIMEZONE:America/Chicago
BEGIN:VTIMEZONE
TZID:America/Chicago
BEGIN:STANDARD
TZNAME:CST
DTSTART:20291104T020000
TZOFFSETFROM:-0500
TZOFFSETTO:-0600
RDATE:20301103T020000
END:STANDARD
BEGIN:DAYLIGHT
TZNAME:CDT
DTSTART:20300310T020000
TZOFFSETFROM:-0600
TZOFFSETTO:-0500
RDATE:20310309T020000
END:DAYLIGHT
END:VTIMEZONE
BEGIN:VEVENT
UID:1415a5b5-b906-487e-b2b8-5850cd6613d0
DTSTAMP:20260425T115019Z
DESCRIPTION:
DTSTART;TZID=America/Chicago:20300501T100000
DTEND;TZID=America/Chicago:20300501T120000
LOCATION:
SUMMARY:Community Food Fair
END:VEVENT
END:VCALENDAR
