BEGIN:VCALENDAR
VERSION:2.0
PRODID:-//crossroadsatparkplace.org//NONSGML kigkonsult.se iCalcreator 2.30
 .10//
CALSCALE:GREGORIAN
METHOD:PUBLISH
UID:348e11f6-ce3b-48e0-9ebc-db34d5b60ab3
X-WR-CALDESC:
X-WR-RELCALID:a6cda02997dc92ac3bbaf239acc5e65b
X-WR-TIMEZONE:America/Chicago
BEGIN:VTIMEZONE
TZID:America/Chicago
BEGIN:STANDARD
TZNAME:CST
DTSTART:20291104T020000
TZOFFSETFROM:-0500
TZOFFSETTO:-0600
RDATE:20301103T020000
RDATE:20311102T020000
END:STANDARD
BEGIN:DAYLIGHT
TZNAME:CDT
DTSTART:20300310T020000
TZOFFSETFROM:-0600
TZOFFSETTO:-0500
RDATE:20310309T020000
END:DAYLIGHT
END:VTIMEZONE
BEGIN:VEVENT
UID:8dc8e4c6-a0fc-4eed-ad81-8fa05217f68f
DTSTAMP:20260425T114221Z
DESCRIPTION:
DTSTART;TZID=America/Chicago:20300507T070000
DTEND;TZID=America/Chicago:20300507T120000
LOCATION:
SUMMARY:Full Service in Operation
END:VEVENT
END:VCALENDAR
