BEGIN:VCALENDAR
VERSION:2.0
PRODID:-//crossroadsatparkplace.org//NONSGML kigkonsult.se iCalcreator 2.30
 .10//
CALSCALE:GREGORIAN
METHOD:PUBLISH
UID:1a608fde-46a9-4f50-a3b2-1e7a1da44620
X-WR-CALDESC:
X-WR-RELCALID:a8e21c6cb4a9f94b7ec313ed1ed24b15
X-WR-TIMEZONE:America/Chicago
BEGIN:VTIMEZONE
TZID:America/Chicago
BEGIN:STANDARD
TZNAME:CST
DTSTART:20291104T020000
TZOFFSETFROM:-0500
TZOFFSETTO:-0600
RDATE:20301103T020000
RDATE:20311102T020000
END:STANDARD
BEGIN:DAYLIGHT
TZNAME:CDT
DTSTART:20300310T020000
TZOFFSETFROM:-0600
TZOFFSETTO:-0500
RDATE:20310309T020000
END:DAYLIGHT
END:VTIMEZONE
BEGIN:VEVENT
UID:a31f57b5-1624-4433-8d78-69a1643cf3a2
DTSTAMP:20260425T114538Z
DESCRIPTION:
DTSTART;TZID=America/Chicago:20300508T100000
DTEND;TZID=America/Chicago:20300508T120000
LOCATION:
SUMMARY:Community Food Fair
END:VEVENT
END:VCALENDAR
