BEGIN:VCALENDAR
VERSION:2.0
PRODID:-//crossroadsatparkplace.org//NONSGML kigkonsult.se iCalcreator 2.30
 .10//
CALSCALE:GREGORIAN
METHOD:PUBLISH
UID:f586867f-d49e-4012-9491-6e5bb906d03b
X-WR-CALDESC:
X-WR-RELCALID:ee6232aae1a013fa45eb74a37d27c676
X-WR-TIMEZONE:America/Chicago
BEGIN:VTIMEZONE
TZID:America/Chicago
BEGIN:STANDARD
TZNAME:CST
DTSTART:20291104T020000
TZOFFSETFROM:-0500
TZOFFSETTO:-0600
RDATE:20301103T020000
RDATE:20311102T020000
END:STANDARD
BEGIN:DAYLIGHT
TZNAME:CDT
DTSTART:20300310T020000
TZOFFSETFROM:-0600
TZOFFSETTO:-0500
RDATE:20310309T020000
END:DAYLIGHT
END:VTIMEZONE
BEGIN:VEVENT
UID:3eae6dee-96fe-4d75-996e-0fb085b817ca
DTSTAMP:20260425T114737Z
DESCRIPTION:
DTSTART;TZID=America/Chicago:20300529T100000
DTEND;TZID=America/Chicago:20300529T120000
LOCATION:
SUMMARY:Community Food Fair
END:VEVENT
END:VCALENDAR
