BEGIN:VCALENDAR
VERSION:2.0
PRODID:-//crossroadsatparkplace.org//NONSGML kigkonsult.se iCalcreator 2.30
 .10//
CALSCALE:GREGORIAN
METHOD:PUBLISH
UID:1176ee3f-9748-451f-916e-d964bcb0fe0d
X-WR-CALDESC:
X-WR-RELCALID:49ed386e1961669ff6c8b0581173ca48
X-WR-TIMEZONE:America/Chicago
BEGIN:VTIMEZONE
TZID:America/Chicago
BEGIN:STANDARD
TZNAME:CST
DTSTART:20291104T020000
TZOFFSETFROM:-0500
TZOFFSETTO:-0600
RDATE:20301103T020000
RDATE:20311102T020000
END:STANDARD
BEGIN:DAYLIGHT
TZNAME:CDT
DTSTART:20300310T020000
TZOFFSETFROM:-0600
TZOFFSETTO:-0500
RDATE:20310309T020000
END:DAYLIGHT
END:VTIMEZONE
BEGIN:VEVENT
UID:fd43b6b1-307c-4ceb-9fb3-68d0fcd29bbd
DTSTAMP:20260425T132443Z
DESCRIPTION:
DTSTART;TZID=America/Chicago:20300605T100000
DTEND;TZID=America/Chicago:20300605T120000
LOCATION:
SUMMARY:Community Food Fair
END:VEVENT
END:VCALENDAR
