BEGIN:VCALENDAR
VERSION:2.0
PRODID:-//crossroadsatparkplace.org//NONSGML kigkonsult.se iCalcreator 2.30
 .10//
CALSCALE:GREGORIAN
METHOD:PUBLISH
UID:099ec54e-5af1-49ef-89ee-ec7f1875ace8
X-WR-CALDESC:
X-WR-RELCALID:025639b5bef67b197e2c29e2cf667921
X-WR-TIMEZONE:America/Chicago
BEGIN:VTIMEZONE
TZID:America/Chicago
BEGIN:STANDARD
TZNAME:CST
DTSTART:20291104T020000
TZOFFSETFROM:-0500
TZOFFSETTO:-0600
RDATE:20301103T020000
RDATE:20311102T020000
END:STANDARD
BEGIN:DAYLIGHT
TZNAME:CDT
DTSTART:20300310T020000
TZOFFSETFROM:-0600
TZOFFSETTO:-0500
RDATE:20310309T020000
END:DAYLIGHT
END:VTIMEZONE
BEGIN:VEVENT
UID:98b15198-90f4-4221-bd22-f813a50b4f16
DTSTAMP:20260425T132013Z
DESCRIPTION:
DTSTART;TZID=America/Chicago:20300612T100000
DTEND;TZID=America/Chicago:20300612T120000
LOCATION:
SUMMARY:Community Food Fair
END:VEVENT
END:VCALENDAR
