BEGIN:VCALENDAR
VERSION:2.0
PRODID:-//crossroadsatparkplace.org//NONSGML kigkonsult.se iCalcreator 2.30
 .10//
CALSCALE:GREGORIAN
METHOD:PUBLISH
UID:e8d6b0f0-69ce-49ac-b27a-1e09c28b278e
X-WR-CALDESC:
X-WR-RELCALID:8ee0d37271c68e66d804b23a2a2aa8ef
X-WR-TIMEZONE:America/Chicago
BEGIN:VTIMEZONE
TZID:America/Chicago
BEGIN:STANDARD
TZNAME:CST
DTSTART:20291104T020000
TZOFFSETFROM:-0500
TZOFFSETTO:-0600
RDATE:20301103T020000
RDATE:20311102T020000
END:STANDARD
BEGIN:DAYLIGHT
TZNAME:CDT
DTSTART:20300310T020000
TZOFFSETFROM:-0600
TZOFFSETTO:-0500
RDATE:20310309T020000
END:DAYLIGHT
END:VTIMEZONE
BEGIN:VEVENT
UID:03aa1a41-780a-4b68-ad19-0a0834d80faf
DTSTAMP:20260425T132527Z
DESCRIPTION:
DTSTART;TZID=America/Chicago:20300619T100000
DTEND;TZID=America/Chicago:20300619T120000
LOCATION:
SUMMARY:Community Food Fair
END:VEVENT
END:VCALENDAR
