BEGIN:VCALENDAR
VERSION:2.0
PRODID:-//crossroadsatparkplace.org//NONSGML kigkonsult.se iCalcreator 2.30
 .10//
CALSCALE:GREGORIAN
METHOD:PUBLISH
UID:9348c4a7-5e84-4090-b6c8-c70c616c4a9b
X-WR-CALDESC:
X-WR-RELCALID:6728ec833e8edabf810c753131f74dc6
X-WR-TIMEZONE:America/Chicago
BEGIN:VTIMEZONE
TZID:America/Chicago
BEGIN:STANDARD
TZNAME:CST
DTSTART:20291104T020000
TZOFFSETFROM:-0500
TZOFFSETTO:-0600
RDATE:20301103T020000
RDATE:20311102T020000
END:STANDARD
BEGIN:DAYLIGHT
TZNAME:CDT
DTSTART:20300310T020000
TZOFFSETFROM:-0600
TZOFFSETTO:-0500
RDATE:20310309T020000
END:DAYLIGHT
END:VTIMEZONE
BEGIN:VEVENT
UID:8264ee0a-e7ac-40dc-8ca2-c5e542481f4e
DTSTAMP:20260425T132550Z
DESCRIPTION:
DTSTART;TZID=America/Chicago:20300626T100000
DTEND;TZID=America/Chicago:20300626T120000
LOCATION:
SUMMARY:Community Food Fair
END:VEVENT
END:VCALENDAR
